BEGIN:VCALENDAR
VERSION:2.0
PRODID:-//wp-events-plugin.com//6.5.2//EN
TZID:Europe/Madrid
X-WR-TIMEZONE:Europe/Madrid
BEGIN:VEVENT
UID:10@terra-alma.es
DTSTART;TZID=Europe/Madrid:20211017T170000
DTEND;TZID=Europe/Madrid:20211017T170000
DTSTAMP:20211013T123508Z
URL:https://terra-alma.es/actividades-verin/medicine-concert/
SUMMARY:Medicine Concert
DESCRIPTION:[vc_row][vc_column][vc_column_text]Time:\nAt 5:00 p.m. Concert 
 Medicine with Language of Light\, Healing for the Soul..\n\nLugar das Eira
 s\, 1\, Laza (Ourense)\n\n&nbsp\;\n\n+info and bookings: \n\nNatalia 659 
 128 097\n\nMaría 645 457 026\n\nSpecial contribution 6 euro[/vc_column_te
 xt][vc_empty_space height="50"][/vc_column][/vc_row][vc_row][vc_column][vc
 _column_text]\nPoster:\n[/vc_column_text][vc_empty_space height="15"][vc_s
 ingle_image image="3702" img_size="600x849" onclick="img_link_large"][vc_e
 mpty_space height="50"][/vc_column][/vc_row]
ATTACH;FMTTYPE=image/jpeg:https://terra-alma.es/wp-content/uploads/2021/10
 /concierto-medicina.jpeg
CATEGORIES:Bienestar
LOCATION:Casa Terra Alma\, As Eiras\, Laza\, Verín\, Ourense\, 32621\, Esp
 aña
X-APPLE-STRUCTURED-LOCATION;VALUE=URI;X-ADDRESS=As Eiras\, Laza\, Verín\, 
 Ourense\, 32621\, España;X-APPLE-RADIUS=100;X-TITLE=Casa Terra Alma:geo:0
 ,0
END:VEVENT
BEGIN:VTIMEZONE
TZID:Europe/Madrid
X-LIC-LOCATION:Europe/Madrid
BEGIN:DAYLIGHT
DTSTART:20210328T030000
TZOFFSETFROM:+0100
TZOFFSETTO:+0200
TZNAME:CEST
END:DAYLIGHT
END:VTIMEZONE
END:VCALENDAR