BEGIN:VCALENDAR
VERSION:2.0
PRODID:-//wp-events-plugin.com//6.5.2//EN
TZID:Europe/Madrid
X-WR-TIMEZONE:Europe/Madrid
BEGIN:VEVENT
UID:2@terra-alma.es
DTSTART;TZID=Europe/Madrid;VALUE=DATE:20210617
DTEND;TZID=Europe/Madrid;VALUE=DATE:20210621
DTSTAMP:20210611T071300Z
URL:https://terra-alma.es/actividades-verin/introduccion-diseno-permacultu
 ra/
SUMMARY:Introducción al diseño en Permacultura
DESCRIPTION:[vc_row][vc_column][vc_single_image image="2973" img_size="full
 "][vc_empty_space height="50"][vc_column_text]\nEl curso\nIMPARTE: MAXIME 
 (Proyecto Casa Mandala)\n\nLugar: CASA TERRA ALMA\, As Eiras\, Ourense\n\n
 Nº de Plazas: 8 (Reserva de plaza: 50€)\n\n+info y reservas: 679 457 35
 1 Natalia[/vc_column_text][vc_empty_space height="50"][vc_column_text]\nCo
 ste estancia:\nComida 20€ (3 comidas incluidas)\n+\nEstancia [15€ habi
 tación compartida] o [35€ habitación privada][/vc_column_text][vc_empt
 y_space height="50"][vc_column_text]\nCoste del curso:\nEn coherencia con 
 los principios de la permacultura\, este curso se va a financiar a través
  del principio de la dávida. Es decir nosotras nos hacemos cargo del pago
  total del curso al facilitador\, 800€.\nY os proponemos que al final de
 l curso cada un@ aporte lo que considere justo y conveniente en función d
 e sus condiciones económicas y su apreciación personal. Confiando que de
  esta forma podemos ayudar a crear una nueva forma de economía.[/vc_colum
 n_text][vc_empty_space height="50"][/vc_column][/vc_row][vc_row][vc_column
 ][vc_column_text]\nCartel:\n[/vc_column_text][vc_empty_space height="15"][
 vc_single_image image="3115" img_size="600x849" onclick="img_link_large"][
 vc_empty_space height="50"][/vc_column][/vc_row]
ATTACH;FMTTYPE=image/jpeg:https://terra-alma.es/wp-content/uploads/2021/01
 /2021-06_Diseno-de-Permacultura.png
CATEGORIES:Bienestar,Ecosistema,Permacultura
LOCATION:Casa Terra Alma\, As Eiras\, Laza\, Verín\, Ourense\, 32621\, Esp
 aña
X-APPLE-STRUCTURED-LOCATION;VALUE=URI;X-ADDRESS=As Eiras\, Laza\, Verín\, 
 Ourense\, 32621\, España;X-APPLE-RADIUS=100;X-TITLE=Casa Terra Alma:geo:0
 ,0
END:VEVENT
BEGIN:VTIMEZONE
TZID:Europe/Madrid
X-LIC-LOCATION:Europe/Madrid
BEGIN:DAYLIGHT
DTSTART:20210328T030000
TZOFFSETFROM:+0100
TZOFFSETTO:+0200
TZNAME:CEST
END:DAYLIGHT
END:VTIMEZONE
END:VCALENDAR