BEGIN:VCALENDAR
VERSION:2.0
PRODID:-//wp-events-plugin.com//6.5.2//EN
TZID:Europe/Madrid
X-WR-TIMEZONE:Europe/Madrid
BEGIN:VEVENT
UID:14@terra-alma.es
DTSTART;TZID=Europe/Madrid;VALUE=DATE:20230304
DTEND;TZID=Europe/Madrid;VALUE=DATE:20230305
DTSTAMP:20230225T005446Z
URL:https://terra-alma.es/actividades-verin/aldearmos-laza-proximo-sabado-
 4-de-marzo-eiras-laza/
SUMMARY:ALDEARMOS LAZA - PRÓXIMO SÁBADO 4 DE MARZO - EIRÁS (LAZA)
DESCRIPTION:\n\n&nbsp\;\n\n🫂 10:00 Aldear Acompaña: presentación da Re
 de Aldear. Casa Terra Alma.\n\n👩🏽‍🍳 10:30 Sabor a Laza!!!: Obra
 doiro para identificar\, consumir e cociñar prantas da nosa contorna. Den
 de o xardín da Casa Terra Alma.\n\n📸 11:00 Inauguración da exposició
 n ’Premios culturais da Universidade de Vigo - Obras premiadas en fotogr
 afía 21-22’ cedida pola Vicerreitoría de Extensión Universitaria da U
 Vigo. Casa Terra Alma.\n\n👨🏻‍🎓 12:30 Aldear-Campus Auga: Deibe 
 Fernández-Simo. ’Educar é natural’. Educación social en contornas n
 aturais privilexiadas. Xardíns casa Terra Alma.\n\n🎤 13:00 CONCERTO: C
 inta Adhesiva. Casa Terra Alma.\n\n👨🏻‍🎓🦅 16:30 Visita guiada
  e observación de avifauna na contorna das Eiras. Saída e chegada á Cas
 a Terra Alma.\n\nPódense reservar comidas no 679 45 73 51 (só vexetarian
 o)\n\nhttps://goo.gl/maps/XYcgRCEYyrhJsCn76
ATTACH;FMTTYPE=image/jpeg:https://terra-alma.es/wp-content/uploads/2023/02
 /WhatsApp-Image-2023-02-24-at-8.25.38-PM.jpeg
CATEGORIES:Bienestar,Cocina,Ecosistema,Permacultura
LOCATION:Casa Terra Alma\, As Eiras\, Laza\, Verín\, Ourense\, 32621\, Esp
 aña
X-APPLE-STRUCTURED-LOCATION;VALUE=URI;X-ADDRESS=As Eiras\, Laza\, Verín\, 
 Ourense\, 32621\, España;X-APPLE-RADIUS=100;X-TITLE=Casa Terra Alma:geo:0
 ,0
END:VEVENT
BEGIN:VTIMEZONE
TZID:Europe/Madrid
X-LIC-LOCATION:Europe/Madrid
BEGIN:STANDARD
DTSTART:20221030T020000
TZOFFSETFROM:+0200
TZOFFSETTO:+0100
TZNAME:CET
END:STANDARD
END:VTIMEZONE
END:VCALENDAR