BEGIN:VCALENDAR
VERSION:2.0
PRODID:-//Casa Rural Hostel en Laza, Verín (Ourense) - ECPv6.6.2//NONSGML v1.0//EN
CALSCALE:GREGORIAN
METHOD:PUBLISH
X-ORIGINAL-URL:https://terra-alma.es
X-WR-CALDESC:Eventos para Casa Rural Hostel en Laza, Verín (Ourense)
REFRESH-INTERVAL;VALUE=DURATION:PT1H
X-Robots-Tag:noindex
X-PUBLISHED-TTL:PT1H
BEGIN:VTIMEZONE
TZID:Europe/Madrid
BEGIN:DAYLIGHT
TZOFFSETFROM:+0100
TZOFFSETTO:+0200
TZNAME:CEST
DTSTART:20210328T010000
END:DAYLIGHT
BEGIN:STANDARD
TZOFFSETFROM:+0200
TZOFFSETTO:+0100
TZNAME:CET
DTSTART:20211031T010000
END:STANDARD
END:VTIMEZONE
BEGIN:VEVENT
DTSTART;TZID=Europe/Madrid:20210313T120000
DTEND;TZID=Europe/Madrid:20210313T150000
DTSTAMP:20260424T005607
CREATED:20201226T164350Z
LAST-MODIFIED:20201227T152137Z
UID:2727-1615636800-1615647600@terra-alma.es
SUMMARY:Taller de Reflexología podal
DESCRIPTION:[vc_row][vc_column width=»2/3″][vc_column_text] \n\n  Taller de Reflexología podal\nLa reflexología aplicada en los pies es una terapia que nos puede ayudar tanto a prevenir diferentes síntomas y dolencias como para conseguir un equilibrio físico y mental \nAPÚNTATE  \n\n  \n\n  \n\n  \n\n \n\n  \n\n[/vc_column_text][vc_empty_space height=»80″][/vc_column][vc_column width=»1/3″][/vc_column][/vc_row]
URL:https://terra-alma.es/actividad-laza/taller-de-reflexologia-podal/
LOCATION:Casa Terra Alma\, As Eiras\, Laza\, Verín\, Ourense\, 32621\, España
CATEGORIES:Salud,Taller
ATTACH;FMTTYPE=image/jpeg:https://terra-alma.es/wp-content/uploads/2020/12/reflexologia-verin.jpg
ORGANIZER;CN="Casa Terra Alma":MAILTO:hola@terra-alma.es
END:VEVENT
END:VCALENDAR